BEGIN:VCALENDAR
VERSION:2.0
PRODID:-//eventon.com NONSGML v1.0//EN
CALSCALE:GREGORIAN
METHOD:PUBLISH
BEGIN:VEVENT
UID:69e820b701548
DTSTAMP:20260422T011327Z
DTSTART:20250524T140000Z
DTEND:20250525T180000Z
LOCATION:
SUMMARY:Rencontre des Arts - Horbourg-Wihr
DESCRIPTION:Rencontre des Arts Les 24 et 25 mai à Horbourg-Wihr L’associ
 ation Point de l’Oeil de Horbourg-Wihr organise une exposition internatio
 nale toute forme d’art intitulée « Rencontre des Arts »\,  qui permet 
 à 50 artistes reconnus et à de jeunes talents prometteurs\,  de l’Est d
 e la France et de ses pays[..]\nhttps://colmar.maxi-flash.com/events/rencon
 tre-des-arts-horbourg-wihr/
URL:https://colmar.maxi-flash.com/events/rencontre-des-arts-horbourg-wihr/
END:VEVENT
END:VCALENDAR